BEGIN:VCALENDAR
VERSION:2.0
PRODID:-//HudPost - ECPv6.15.20//NONSGML v1.0//EN
CALSCALE:GREGORIAN
METHOD:PUBLISH
X-WR-CALNAME:HudPost
X-ORIGINAL-URL:https://hudpost.com
X-WR-CALDESC:Events for HudPost
REFRESH-INTERVAL;VALUE=DURATION:PT1H
X-Robots-Tag:noindex
X-PUBLISHED-TTL:PT1H
BEGIN:VTIMEZONE
TZID:America/New_York
BEGIN:DAYLIGHT
TZOFFSETFROM:-0500
TZOFFSETTO:-0400
TZNAME:EDT
DTSTART:20250309T070000
END:DAYLIGHT
BEGIN:STANDARD
TZOFFSETFROM:-0400
TZOFFSETTO:-0500
TZNAME:EST
DTSTART:20251102T060000
END:STANDARD
BEGIN:DAYLIGHT
TZOFFSETFROM:-0500
TZOFFSETTO:-0400
TZNAME:EDT
DTSTART:20260308T070000
END:DAYLIGHT
BEGIN:STANDARD
TZOFFSETFROM:-0400
TZOFFSETTO:-0500
TZNAME:EST
DTSTART:20261101T060000
END:STANDARD
BEGIN:DAYLIGHT
TZOFFSETFROM:-0500
TZOFFSETTO:-0400
TZNAME:EDT
DTSTART:20270314T070000
END:DAYLIGHT
BEGIN:STANDARD
TZOFFSETFROM:-0400
TZOFFSETTO:-0500
TZNAME:EST
DTSTART:20271107T060000
END:STANDARD
END:VTIMEZONE
BEGIN:VEVENT
DTSTART;TZID=America/New_York:20260422T193000
DTEND;TZID=America/New_York:20260422T193000
DTSTAMP:20260424T042915
CREATED:20251215T061355Z
LAST-MODIFIED:20251215T061355Z
UID:17690-1776886200-1776886200@hudpost.com
SUMMARY:Red Bull New York vs D.C. United
DESCRIPTION:
URL:https://hudpost.com/cal/red-bull-new-york-vs-d-c-united/
LOCATION:Sports Illustrated Stadium\, 600 Cape May Street\, Harrison\, 07029\, United States
CATEGORIES:Sports
END:VEVENT
END:VCALENDAR